BEGIN:VCALENDAR
VERSION:2.0
PRODID:-//Community Institute for Psychotherapy - ECPv6.15.14//NONSGML v1.0//EN
CALSCALE:GREGORIAN
METHOD:PUBLISH
X-WR-CALNAME:Community Institute for Psychotherapy
X-ORIGINAL-URL:https://cipmarin.org
X-WR-CALDESC:Events for Community Institute for Psychotherapy
REFRESH-INTERVAL;VALUE=DURATION:PT1H
X-Robots-Tag:noindex
X-PUBLISHED-TTL:PT1H
BEGIN:VTIMEZONE
TZID:America/Los_Angeles
BEGIN:DAYLIGHT
TZOFFSETFROM:-0800
TZOFFSETTO:-0700
TZNAME:PDT
DTSTART:20170312T100000
END:DAYLIGHT
BEGIN:STANDARD
TZOFFSETFROM:-0700
TZOFFSETTO:-0800
TZNAME:PST
DTSTART:20171105T090000
END:STANDARD
BEGIN:DAYLIGHT
TZOFFSETFROM:-0800
TZOFFSETTO:-0700
TZNAME:PDT
DTSTART:20180311T100000
END:DAYLIGHT
BEGIN:STANDARD
TZOFFSETFROM:-0700
TZOFFSETTO:-0800
TZNAME:PST
DTSTART:20181104T090000
END:STANDARD
BEGIN:DAYLIGHT
TZOFFSETFROM:-0800
TZOFFSETTO:-0700
TZNAME:PDT
DTSTART:20190310T100000
END:DAYLIGHT
BEGIN:STANDARD
TZOFFSETFROM:-0700
TZOFFSETTO:-0800
TZNAME:PST
DTSTART:20191103T090000
END:STANDARD
END:VTIMEZONE
BEGIN:VEVENT
DTSTART;TZID=America/Los_Angeles:20181019T123000
DTEND;TZID=America/Los_Angeles:20181019T143000
DTSTAMP:20260420T083917
CREATED:20180802T032015Z
LAST-MODIFIED:20230622T042205Z
UID:10000488-1539952200-1539959400@cipmarin.org
SUMMARY:Working Intersubjectively with Developmental Trauma and Traumatic Attachments: A Case-Based Approach (eight week series beginning October 19\, 2018) – Presented by Jane Rubin\, PhD [STUDY GROUP]
DESCRIPTION:Eight sessions\, the third Friday of the month:\nOct. 19\, Nov. 16\, Dec. 21\, 2018\, Jan. 18\, Feb. 15\, Mar. 15\, April 19\, May 17\, 2019 12:30 pm – 2:30 pm \nIntersubjectivity theory gives clinicians the tools to work effectively with developmental trauma and traumatic attachments while avoiding the impasses that often undermine treatment. While intersubjectivity theory is conceptually simple\, it can be difficult to put into practice. \nIn this course\, we’ll study the basic concepts of intersubjectivity theory with the goal of translating theory into practice. In each class meeting\, we’ll discuss a foundational paper in intersubjectivity theory. Topics will include working with developmental trauma; understanding transference and countertransference; effectively practicing affect attunement; using the most emotionally salient forms of interpretation; and overcoming pathological accommodation. This will be followed by a discussion of a case in which participants will learn to effectively translate these ideas from theory to practice. Participants should develop greater confidence in helping patients suffering from developmental trauma and traumatic attachments while avoiding the most common obstacles to successful treatment. \nIntersubjectivity theory and infant research have revolutionized our understanding of effective treatment for developmental trauma and traumatic attachments. This seminar is based upon the most influential works in these two fields. These works define developmental trauma and traumatic attachments and illustrate how therapists can work with them effectively. \nLearning Goals and Objectives: \n\nDefine the bi-phasic nature of trauma and work effectively with it in treatment.\nIdentify their patients’ unconscious organizing principles.\nExplain how intersubjectivity theory understands the therapeutic alliance\, and effectively establish and maintain a working alliance with their patients.\nExplain the difference between categorical affects and vitality affects.\nDescribe three vitality affects and effectively employ them in treatment.\nDefine the three principles of salience and employ them effectively in treatment.\nDefine model scenes and use them to construct effective interpretations.\nExplain the relationship between pathological accommodation and traumatic attachment.\nExplain the difference between the dread to repeat and the dread not to repeat.\nTrack effective shifts in their patients that signal the shift from enthusiasm to malaise\, and intervene effectively to prevent prolonged negative therapeutic reactions.\n\n  \nJane Rubin\, PhD\, PhD\, LMFT\, received her PhD in Philosophy from UC Berkeley\, her PhD in Clinical Psychology from the Wright Institute\, and her PsyD in Contemporary Psychoanalysis at the Institute of Contemporary Psychoanalysis in Los Angeles. She is in private practice in Berkeley. \n\nCOST:  \nNon Members:\n$280 early registration up to 10 days prior to class\, $320 after \nCIP Members:\n$200 early registration up to 10 days prior to class\, $220 after \nCEs: 16 CEs for LMFTs\, LCSWs\, and Psychologists. Certificates issued after completion of eight sessions. \nCommunity Institute for Psychotherapy is approved by the American Psychological Association to sponsor continuing education for psychologists. Community Institute for Psychotherapy maintains responsibility for this program and its content. \nCancellations must be received in writing 10 business days prior to the seminar or class for a refund minus a $25 cancellation fee. \nAccommodation for Special Needs: Accommodations will be made wherever possible to accommodate those with disabilities.  Please let us know of any disabilities upon registration\, to ensure that proper accommodations are put in place prior to workshop/training. \nGrievance Procedure: CIP will respond to complaints in a reasonable\, ethical and timely manner\, when submitted by program attendees in writing to the Chair of CIP’s Professional Development Committee. \nAnti-Discrimination Policy: CIP shall not discriminate against any individual or group with respect to any service\, program or activity based on gender\, race\, creed\, national origin\, sexual orientation\, religion\, age or other prohibited basis. CIP does not require attendees to adhere to any particular religion or creed in order to participate in training. CIP will not promote or advocate for a single modality of treatment that is discriminatory or likely to harm clients based on current accepted standards or practice. \n*There is no conflict of interest or commercial support related to this CE program.
URL:https://cipmarin.org/event/working-intersubjectively-with-developmental-trauma-and-traumatic-attachments-a-case-based-approach-eight-week-series-beginning-october-19-2018/
LOCATION:CIP Group Room\, 1330 Lincoln Ave # 201\, San Rafael\, CA\, 94901\, United States
CATEGORIES:Study Groups
ATTACH;FMTTYPE=image/jpeg:https://cipmarin.org/wp-content/uploads/2018/08/Jane-R-1-website-1-e1536949399931.jpg
GEO:37.9762699;-122.5225763
X-APPLE-STRUCTURED-LOCATION;VALUE=URI;X-ADDRESS=CIP Group Room 1330 Lincoln Ave # 201 San Rafael CA 94901 United States;X-APPLE-RADIUS=500;X-TITLE=1330 Lincoln Ave # 201:geo:-122.5225763,37.9762699
END:VEVENT
BEGIN:VEVENT
DTSTART;TZID=America/Los_Angeles:20180922T090000
DTEND;TZID=America/Los_Angeles:20180922T160000
DTSTAMP:20260420T083917
CREATED:20180802T044656Z
LAST-MODIFIED:20190204T202343Z
UID:10000491-1537606800-1537632000@cipmarin.org
SUMMARY:Working Intersubjectively with Developmental Trauma and Traumatic Attachments: Tools for Transformation (day-long in depth workshop) – Presented by Jane Rubin\, PhD [SEMINAR]
DESCRIPTION:Many of our patients suffer from various forms of developmental trauma. Whether their presenting problems are depression\, anxiety\, the inability to form meaningful relationships\, or difficulty finding their direction in life\, they live in the shadow of early relationships with misattuned caregivers. \nIntersubjectivity theory and infant research give us new ways of understanding and working with these patients. Intersubjectivity theory helps us to recognize developmental trauma in our adult patients\, to identify the unconscious organizing principles that result from that trauma\, and to understand the traumatic attachments that keep them from moving forward in their lives. When combined with the findings of infant research\, it gives us tools for effective affect attunement that allows our patients to integrate dissociated affects and use those affects to help them have richer\, more meaningful lives. \nThis seminar will discuss the basic concepts of intersubjectivity theory\, as developed by Robert Stolorow\, George Atwood\, and Bernard Brandchaft\, and integrate those concepts with the empirical research about affect attunement of Daniel Stern\, Beatrice Beebe\, and Frank Lachmann\, and the Boston Change Process Study Group. Participants will learn how to work more successfully to help their patients overcome the results of early trauma while avoiding many of the impasses that can result from ineffective treatment. \nLearning Goals and Objectives: \n\nDefine the bi-phasic nature of trauma.\nExplain how trauma leads to the formation of unconscious organizing principles.\nDescribe and differentiate the two major functions of unconscious organizing principles so clinicians can identify them and utilize that information intersubjectively with the client.\nExplain how intersubjectivity theory understands the therapeutic alliance\, and effectively establish and maintain a working alliance with their patients.\nExplain the difference between categorical affects and vitality affects.\nDescribe three vitality affects and effectively employ them in treatment.\nExplain the difference between the dread to repeat and the dread not to repeat.\nDefine structures of pathological accommodation.\nTrack affective shifts in their patients that signal the shift from enthusiasm to malaise and intervene effectively to prevent prolonged negative therapeutic reactions.\n\n  \nJane Rubin\, PhD\, received her PhD in Philosophy from UC Berkeley\, her PhD in Clinical Psychology from the Wright Institute\, and her PsyD in Contemporary Psychoanalysis at the Institute of Contemporary Psychoanalysis in Los Angeles. She is in private practice in Berkeley. \n\nCOST:  \nCIP Members:\n$75 early registration 10 days prior to seminar; $85 after \nNon-Members:\n$110 early registration up to 10 days prior to seminar\, $120 after \nCEs: 6 CEs for LMFTs\, LCSWs\, and Psychologists. \nCommunity Institute for Psychotherapy is approved by the American Psychological Association to sponsor continuing education for psychologists. Community Institute for Psychotherapy maintains responsibility for this program and its content. \nCancellations must be received in writing 10 business days prior to the seminar or class for a refund minus a $25 cancellation fee. \nAccommodation for Special Needs: Accommodations will be made wherever possible to accommodate those with disabilities.  Please let us know of any disabilities upon registration\, to ensure that proper accommodations are put in place prior to workshop/training. \nGrievance Procedure: CIP will respond to complaints in a reasonable\, ethical and timely manner\, when submitted by program attendees in writing to the Chair of CIP’s Professional Development Committee. \nAnti-Discrimination Policy: CIP shall not discriminate against any individual or group with respect to any service\, program or activity based on gender\, race\, creed\, national origin\, sexual orientation\, religion\, age or other prohibited basis. CIP does not require attendees to adhere to any particular religion or creed in order to participate in training. CIP will not promote or advocate for a single modality of treatment that is discriminatory or likely to harm clients based on current accepted standards or practice. \n*There is no conflict of interest or commercial support related to this CE program.
URL:https://cipmarin.org/event/working-intersubjectively-with-developmental-trauma-and-traumatic-attachments-tools-for-transformation-day-long-in-depth-workshop/
LOCATION:Community Institute for Psychotherapy\, 1330 Lincoln Ave.\, Suite 201\, San Rafael\, CA\, 94901\, United States
CATEGORIES:Seminars
ATTACH;FMTTYPE=image/jpeg:https://cipmarin.org/wp-content/uploads/2018/08/Jane-R-1-website-1-e1536949399931.jpg
GEO:38.0048043;-122.5324126
X-APPLE-STRUCTURED-LOCATION;VALUE=URI;X-ADDRESS=Community Institute for Psychotherapy 1330 Lincoln Ave. Suite 201 San Rafael CA 94901 United States;X-APPLE-RADIUS=500;X-TITLE=1330 Lincoln Ave.\, Suite 201:geo:-122.5324126,38.0048043
END:VEVENT
BEGIN:VEVENT
DTSTART;TZID=America/Los_Angeles:20180914T100000
DTEND;TZID=America/Los_Angeles:20180914T120000
DTSTAMP:20260420T083917
CREATED:20180801T083754Z
LAST-MODIFIED:20190204T203346Z
UID:10000483-1536919200-1536926400@cipmarin.org
SUMMARY:Depth Psychotherapy and Spiritual Inquiry – Presented by Bryan Wittine\, PhD\, LMFT [STUDY GROUP]
DESCRIPTION:12 sessions\, the second and third Fridays of the month:\nSept. 14 & 21\, Nov. 9 & 16\, Dec. 14 & 21\, 2018; Jan. 11 & 18\,\nFeb. 8 & 15\, Mar. 8 & 15\, 2019 | 10 am – 12 noon \nAn increasing number of psychotherapy clients have meditation and spiritual practices and want their spirituality to be recognized as a resource in their healing. Many also want therapists who will converse with them and offer guidance on the spiritual path. Jung’s extraordinary study of alchemy is his own spiritual inquiry and our invitation to inquire into ourselves to dialogue with the unconscious and gain wisdom and guidance from within. Jungian psychology uses our natural curiosity and the energy of our spiritual longing to contemplate such ultimate concerns as\, “What am I?” “Who am I?” “What is Life and its meaning?” “What is Love?” and “What is God?” To accompany our clients in their quest we must draw upon our own natural capacity for inquiry. Alchemical symbolism will be found to be an exceptionally useful way to ponder the stages of the spiritual path for patients and therapists alike. This course is designed for depth psychotherapists who wish to engage in dialogue concerning the complementarity of clinical work and spirituality from a Jungian perspective. Jung called the spiritual center of our psyche the “Self.” He also said the Self reflects Divinity\, the infinite depth and ground of all Being. Topics for our dialogue in this seminar include the following: \n\nThe Trinity of Ego\, Self\, and Divinity from a Jungian perspective;\nArchetypal images in Alchemy;\nArchetypal images of inner wisdom and guidance;\nArchetypal patterns of mystical experience;\nSpiritual inquiry as dialogue with the unconscious;\nSpiritual inquiry\, dreamwork\, and Jungian psychology;\nSpiritual crises and conflicts;\nThe centrality of the Feminine in spiritual inquiry;\nSimilarities and differences between spiritual direction and spiritually integrated psychotherapy.\n\nThe frequency of mystical events reported by people in Jungian analysis and by the population at large led Jung to believe that all of us can develop a personal spirituality and discover meaning in our lives from our encounter with the unconscious. It is not just a mystic\, sage\, meditator\, or religious person who has spiritual experiences. They are available to us all. \nNew participants who wish to register must interview with Dr. Wittine prior to registration to be accepted into this study group. \nLearning Goals and Objectives: \n\nStudents will summarize key definitions of Jung’s trinity of Ego\, Self\, and Divinity\, as listed by Murray Stein in his paper\, “Divinity Expresses the Self.”\nStudents will articulate and apply specific requirements that allow spiritual inquiry to occur. Alchemical symbolism will be used to interpret these inquiries.\nStudents will differentiate and briefly summarize the six stages of the alchemical journey.\nStudents will select at least one spiritual crisis\, conflict\, or defense and summarize its major characteristics using Jung’s perspective on alchemy.\nStudents will choose one archetypal image of inner wisdom and guidance that has meaning for them and briefly summarize its symbolic meaning.\nStudents will compare and contrast spiritual direction and spiritually integrated psychotherapy.\nStudents will discuss clinical material from their own and the teacher’s casework to illustrate examples of alchemical stages in depth psychotherapy.\n\n  \nBryan Wittine\, PhD\, LMFT\,is a Jungian psychoanalyst in private practice in Marin County.  He is cofounder and former chair of the graduate program in transpersonal counseling psychology at John F. Kennedy University where he also served as Associate Dean of the former Graduate School of Consciousness Studies.  He has served on the adjunct faculty at CIIS\, ITP\, and other graduate schools.  Having trained in Existential-Humanistic psychotherapy\, his long-standing practice of contemplative spirituality and studies in psychoanalytic psychology brought him to train at the C. G. Jung Institute of San Francisco where he now regularly teaches on such topics as deepening clinical work; depth psychotherapy and spiritual inquiry; and the integration of Jungian and transpersonal psychology. \n\nCOST:  \nListed prices are public prices. Member discounts are applied when you log in. \nNon Members:\n$440 early registration up to 10 days prior to class\, $460 after \nCIP Members:\n$300 early registration up to 10 days prior to class\, $320 after \nCEs: 24 CEs for LMFTs\, LCSWs\, and Psychologists. Certificates issued after completion of 12  sessions.  \nCommunity Institute for Psychotherapy is approved by the American Psychological Association to sponsor continuing education for psychologists. Community Institute for Psychotherapy maintains responsibility for this program and its content. \nCancellations must be received in writing 10 business days prior to the seminar or class for a refund minus a $25 cancellation fee. \nAccommodation for Special Needs: Accommodations will be made wherever possible to accommodate those with disabilities.  Please let us know of any disabilities upon registration\, to ensure that proper accommodations are put in place prior to workshop/training. \nGrievance Procedure: CIP will respond to complaints in a reasonable\, ethical and timely manner\, when submitted by program attendees in writing to the Chair of CIP’s Professional Development Committee. \nAnti-Discrimination Policy: CIP shall not discriminate against any individual or group with respect to any service\, program or activity based on gender\, race\, creed\, national origin\, sexual orientation\, religion\, age or other prohibited basis. CIP does not require attendees to adhere to any particular religion or creed in order to participate in training. CIP will not promote or advocate for a single modality of treatment that is discriminatory or likely to harm clients based on current accepted standards or practice. \n*There is no conflict of interest or commercial support related to this CE program.
URL:https://cipmarin.org/event/depth-psychotherapy-and-spiritual-inquiry/
LOCATION:CIP Group Room\, 1330 Lincoln Ave # 201\, San Rafael\, CA\, 94901\, United States
CATEGORIES:Study Groups
ATTACH;FMTTYPE=image/jpeg:https://cipmarin.org/wp-content/uploads/2018/08/Bryan-Wittine-Photo-e1536949267913.jpg
GEO:37.9762699;-122.5225763
X-APPLE-STRUCTURED-LOCATION;VALUE=URI;X-ADDRESS=CIP Group Room 1330 Lincoln Ave # 201 San Rafael CA 94901 United States;X-APPLE-RADIUS=500;X-TITLE=1330 Lincoln Ave # 201:geo:-122.5225763,37.9762699
END:VEVENT
BEGIN:VEVENT
DTSTART;TZID=America/Los_Angeles:20180303T083000
DTEND;TZID=America/Los_Angeles:20180303T163000
DTSTAMP:20260420T083917
CREATED:20180810T031900Z
LAST-MODIFIED:20180911T214923Z
UID:10000493-1520065800-1520094600@cipmarin.org
SUMMARY:Raising Healthy Families 2018
DESCRIPTION:Building Connection\, Compassion\, and Community\nCo-hosted by the Marin County Office of Education\n\n\n\n\nWhen:\nSaturday\, March 3\, 2018 8:30 am – 4:30 pm \nWhere:\nMarin County Office of Education\n1111 Las Gallinas Avenue\, San Rafael\n\nSpecial guest speaker:\nKeynote by Matt Willis\, MD\, MPH\,\nPublic Health Officer for Marin County \nSilent Auction and Raffle\nRaffle ticket $5\, or 6 for $25\n\n\n\n  \n\n\n\n\nAbout the Conference\n\n\n\n\nWe invite you to join Bay Area experts and community leaders in a day of learning designed for parents\, caregivers\, and educators. Learn how mindfulness can strengthen your relationships with young people\, how to set healthy boundaries around technology\, and how to help kids understand and be compassionate about differences. Speakers will share the latest research and practical strategies for raising young people who are curious\, kind\, and resilient.\n\n\n\n\nLearn more about the speakers…\n\n\n\n\n  \n\n\n\n\nPublic Admission\n\n\nProfessional Admission\n\n\n\nSuggested donation of $75\, $50\, $25 or scholarshipPlease note: It is our intention to make our Community Conference accessible to everyone. As a nonprofit\, we depend on the generosity of our community to be able to provide vital services to our community. We ask that attendees select the level of tuition for the conference that matches their ability to contribute. All requests for scholarship will be granted\nNon Members:\n$100 early registration up to 10 days prior to class\, $120 afterCIP Members:\n$75 early registration up to 10 days prior to class\, $85 afterCEs: \n6 CEs for LMFTs\, LCSWs\, and Psychologists\n\n\n\n  \n\nIn order to make the event accessible to all\, scholarships will be available by pre-registration. Spanish translation will be provided. A Resource Exhibition with information about Conference Sponsors and Community Partners will be open throughout the day. For information or to RSVP call (415) 459-5999 ext. 101. \nAll proceeds from this fund raising event go to support CIP’s high-quality\, low-fee mental health services for Marin families\, children\, and adults! Please join us in helping individuals\, healing families and strengthening our community for all! \n  \n\n\n\n\n\n\n\nBecome a Sponsor!\nRaising Healthy Families Flyer\n\n\n\n\nSponsors…\nLearn more about Raising Healthy Families sponsors.
URL:https://cipmarin.org/event/raising-healthy-families/
LOCATION:Marin County Office of Education\, 1111 Las Gallinas Avenue\, San Rafael\, CA\, 94903\, United States
CATEGORIES:Fundraiser
ATTACH;FMTTYPE=image/png:https://cipmarin.org/wp-content/uploads/2018/07/raising-healthy-families-e1533548847504.png
GEO:38.0135122;-122.5502666
X-APPLE-STRUCTURED-LOCATION;VALUE=URI;X-ADDRESS=Marin County Office of Education 1111 Las Gallinas Avenue San Rafael CA 94903 United States;X-APPLE-RADIUS=500;X-TITLE=1111 Las Gallinas Avenue:geo:-122.5502666,38.0135122
END:VEVENT
END:VCALENDAR